View In:
ArcGIS JavaScript
ArcGIS Online Map Viewer
ArcGIS Earth
Service Description: Imagery/stch21_lidar_WebMercator
Name: Imagery/stch21_lidar_WebMercator
Description:
Single Fused Map Cache: false
Extent:
XMin: -1.0080336734175257E7
YMin: 3464128.107662886
XMax: -1.0037165116558341E7
YMax: 3514323.673301709
Spatial Reference: 102100
(3857)
LatestVCSWkid(0)
Initial Extent:
XMin: -1.0080336734175257E7
YMin: 3464128.107662886
XMax: -1.0037165116558341E7
YMax: 3514323.673301709
Spatial Reference: 102100
(3857)
LatestVCSWkid(0)
Full Extent:
XMin: -1.0080336734175257E7
YMin: 3464128.107662886
XMax: -1.0037165116558341E7
YMax: 3514323.673301709
Spatial Reference: 102100
(3857)
LatestVCSWkid(0)
Pixel Size X: 0.3551933260129342
Pixel Size Y: 0.3551933260129421
Band Count: 1
Pixel Type: F32
RasterFunction Infos: {"rasterFunctionInfos": [{
"name": "None",
"description": "",
"help": ""
}]}
Mensuration Capabilities:
Inspection Capabilities:
Has Histograms: true
Has Colormap: false
Has Multi Dimensions : false
Rendering Rule:
Min Scale: 0
Max Scale: 0
Copyright Text:
Service Data Type: esriImageServiceDataTypeGeneric
Min Values: -24.990003585815
Max Values: 73.920303344727
Mean Values: 1.9173243988753
Standard Deviation Values: 3.5321098878356
Object ID Field:
Fields:
None
Default Mosaic Method: Center
Allowed Mosaic Methods:
SortField:
SortValue: null
Mosaic Operator: First
Default Compression Quality: 75
Default Resampling Method: Bilinear
Max Record Count: null
Max Image Height: 4100
Max Image Width: 15000
Max Download Image Count: null
Max Mosaic Image Count: null
Allow Raster Function: false
Allow Copy: true
Allow Analysis: true
Allow Compute TiePoints: false
Supports Statistics: false
Supports Advanced Queries: false
Use StandardizedQueries: true
Raster Type Infos:
Name: Raster Dataset
Description: Supports all ArcGIS Raster Datasets
Help:
Has Raster Attribute Table: false
Edit Fields Info: null
Ownership Based AccessControl For Rasters: null
Child Resources:
Info
Histograms
Statistics
Key Properties
Legend
Raster Function Infos
Supported Operations:
Export Image
Identify
Compute Histograms
Compute Statistics Histograms
Get Samples
Compute Class Statistics
Query Boundary
Compute Pixel Location
Compute Angles
Validate
Project